BEGIN:VCALENDAR
VERSION:2.0
PRODID:-//Commune de Roquevaire - ECPv6.15.15//NONSGML v1.0//EN
CALSCALE:GREGORIAN
METHOD:PUBLISH
X-WR-CALNAME:Commune de Roquevaire
X-ORIGINAL-URL:https://ville-de-roquevaire.fr
X-WR-CALDESC:Évènements pour Commune de Roquevaire
REFRESH-INTERVAL;VALUE=DURATION:PT1H
X-Robots-Tag:noindex
X-PUBLISHED-TTL:PT1H
BEGIN:VTIMEZONE
TZID:Europe/Paris
BEGIN:DAYLIGHT
TZOFFSETFROM:+0100
TZOFFSETTO:+0200
TZNAME:CEST
DTSTART:20250330T010000
END:DAYLIGHT
BEGIN:STANDARD
TZOFFSETFROM:+0200
TZOFFSETTO:+0100
TZNAME:CET
DTSTART:20251026T010000
END:STANDARD
BEGIN:DAYLIGHT
TZOFFSETFROM:+0100
TZOFFSETTO:+0200
TZNAME:CEST
DTSTART:20260329T010000
END:DAYLIGHT
BEGIN:STANDARD
TZOFFSETFROM:+0200
TZOFFSETTO:+0100
TZNAME:CET
DTSTART:20261025T010000
END:STANDARD
BEGIN:DAYLIGHT
TZOFFSETFROM:+0100
TZOFFSETTO:+0200
TZNAME:CEST
DTSTART:20270328T010000
END:DAYLIGHT
BEGIN:STANDARD
TZOFFSETFROM:+0200
TZOFFSETTO:+0100
TZNAME:CET
DTSTART:20271031T010000
END:STANDARD
END:VTIMEZONE
BEGIN:VEVENT
DTSTART;VALUE=DATE:20260420
DTEND;VALUE=DATE:20260425
DTSTAMP:20260420T122438
CREATED:20260318T074758Z
LAST-MODIFIED:20260318T074758Z
UID:7144-1776643200-1777075199@ville-de-roquevaire.fr
SUMMARY:Semaine bouliste
DESCRIPTION:Organisée par la Boule Roquevairoise sur le boulodrome Maurin à Roquevaire du 20 au 24 avril. \nTirage tous les jours à 14h30. Buvette sur place.
URL:https://ville-de-roquevaire.fr/evenement/semaine-bouliste/
LOCATION:Boulodrome Raymond Maurin\, le Pré\, Roquevaire\, Sélectionner un État :\, 13360\, France
ATTACH;FMTTYPE=image/jpeg:https://ville-de-roquevaire.fr/wp-content/uploads/2026/03/Affiches-concours-boules-printemps-1.jpg
END:VEVENT
BEGIN:VEVENT
DTSTART;VALUE=DATE:20260425
DTEND;VALUE=DATE:20260427
DTSTAMP:20260420T122438
CREATED:20260311T130229Z
LAST-MODIFIED:20260317T102425Z
UID:6998-1777075200-1777247999@ville-de-roquevaire.fr
SUMMARY:Ludik Fest
DESCRIPTION:Le Ludik Fest est de retour à Roquevaire ! \nLe festival des jeux pour tous revient cette année les 25 et 26 avril 2026\, dont une nocturne le samedi jusqu’à minuit\, avec plusieurs tournois et deux tombolas. \nL’association Ludik Attitude présente des nouveautés et des avant-premières sur les tables de jeux grâce aux partenariats avec les éditeurs. \nAu programme : Jeux de société\, jeux de rôle\, tombola\, tournois et boutique… \nL’actualité du festival est à suivre sur les réseaux Facebook et Instagram\, ainsi que sur le site www.ludikfest.org. \nHoraires et dates : Samedi 25 avril (9h/minuit) et dimanche 26 avril (9h/18h)\, entrée libre.\nRestauration possible sur place\nInfos : ludikattitude@gmail.com.
URL:https://ville-de-roquevaire.fr/evenement/ludik-fest/
LOCATION:Salle Raymond Reynaud\, Quartier de la Gare\, Roquevaire\, 13360\, France
ATTACH;FMTTYPE=image/jpeg:https://ville-de-roquevaire.fr/wp-content/uploads/2026/03/2026_AFF-LUDIKFEST-25-26-AVRIL.jpg
ORGANIZER;CN="Ludik Attitude":MAILTO:ludikattitude@gmail.com
END:VEVENT
BEGIN:VEVENT
DTSTART;VALUE=DATE:20260426
DTEND;VALUE=DATE:20260427
DTSTAMP:20260420T122438
CREATED:20260415T100247Z
LAST-MODIFIED:20260415T102101Z
UID:7517-1777161600-1777247999@ville-de-roquevaire.fr
SUMMARY:Cérémonie commémorative
DESCRIPTION:La Ville de Roquevaire vous convie à la commémoration du Souvenir des Victimes de la Déportation\, qui se tiendra \nle dimanche 26 avril à 11h30\, \nau lieu de 10h30 comme initialement indiqué dans le bulletin mensuel d’avril. \nRendez-vous sur le parvis de la mairie. \nDépôt de gerbe au Monument aux Morts du Square de Verdun\, suivi d’un apéritif servi à l’Hôtel de Ville dans la salle des mariages. \n 
URL:https://ville-de-roquevaire.fr/evenement/ceremonie-commemorative/
LOCATION:Mairie\, 29 Avenue des Alliés\, Roquevaire\, Provence-Alpes-Côte d'Azur\, 13360\, France
ATTACH;FMTTYPE=image/png:https://ville-de-roquevaire.fr/wp-content/uploads/2026/04/affiche-commemoration-du-Souvenir-des-Victimes-de-la-Deportation.png
ORGANIZER;CN="Mairie":MAILTO:test@test.fr
END:VEVENT
BEGIN:VEVENT
DTSTART;VALUE=DATE:20260501
DTEND;VALUE=DATE:20260502
DTSTAMP:20260420T122438
CREATED:20260414T122519Z
LAST-MODIFIED:20260414T122519Z
UID:7497-1777593600-1777679999@ville-de-roquevaire.fr
SUMMARY:Vide-greniers\, puces
DESCRIPTION:Amateurs de bonnes affaires\, chineurs passionnés ou simples curieux en quête de bonnes trouvailles… le prochain vide-greniers organisé par la Chorale Saint-Vincent se déroulera dans la cour du patronage et autour de la mairie. \nPour les exposants\, inscriptions au 06.09.50.72.26 ou 04.42.04.24.23.
URL:https://ville-de-roquevaire.fr/evenement/vide-greniers-puces/
LOCATION:Cour du patronage\, Rue Pierre Cochereau\, Roquevaire\, Sélectionner un État :\, 13360\, France
ATTACH;FMTTYPE=image/jpeg:https://ville-de-roquevaire.fr/wp-content/uploads/2026/04/2026_AFF-VIDE-GRENIER-1-MAI.jpg
END:VEVENT
BEGIN:VEVENT
DTSTART;VALUE=DATE:20260501
DTEND;VALUE=DATE:20260502
DTSTAMP:20260420T122438
CREATED:20260414T121306Z
LAST-MODIFIED:20260415T131839Z
UID:7491-1777593600-1777679999@ville-de-roquevaire.fr
SUMMARY:Fête de l'âne et des animaux de la ferme
DESCRIPTION:La traditionnelle Fête de l’âne organisée par la Confrérie Saint-Eloi Saint-Vincent de Roquevaire se tiendra le 1er mai. \nAu Pré Maurin\, diverses races seront présentées dont l’âne de Provence\, avec un espace dédié aux animaux de la ferme. \nVous pourrez assister à un défilé de charrettes à 15h30\nDe nombreux stands seront présents à la foire artisanale sur le Cours Négrel Féraud. Une petite fête foraine\, des animations\, et des balades à dos d’ânes raviront les plus jeunes. \n \n  \n \nIl sera possible de se restaurer sur place avec la Paëlla géante proposée par la Confrérie (20 €/personnes\, dessert\, fromage et boissons compris) ou auprès des nombreux stands et food-trucks : Les places sont limitées\, pensez à réserver dès maintenant en ligne :https://tinyurl.com/paella-roquevaire-1er-mai-2026 \nEn parallèle\, un vide-greniers est organisé par la Chorale Saint-Vincent à proximité de la mairie et le musée du patrimoine René Verrier ouvrira ses portes de 10h à 12h et de 14h à 17h (45 route de St Vincent)\, entrée libre : https://ville-de-roquevaire.fr/tourisme-et-patrimoine/musee-rene-verrier/ \n 
URL:https://ville-de-roquevaire.fr/evenement/fete-de-lane-et-des-animaux-de-la-ferme/
LOCATION:Cours Négrel Féraud\, Roquevaire\, 13360
ATTACH;FMTTYPE=image/jpeg:https://ville-de-roquevaire.fr/wp-content/uploads/2026/04/2026_AFF-FETE-ANE-01-MAI.jpg
END:VEVENT
BEGIN:VEVENT
DTSTART;TZID=Europe/Paris:20260503T080000
DTEND;TZID=Europe/Paris:20260503T170000
DTSTAMP:20260420T122438
CREATED:20260415T071058Z
LAST-MODIFIED:20260415T071635Z
UID:7507-1777795200-1777827600@ville-de-roquevaire.fr
SUMMARY:Vide trésors
DESCRIPTION:L’association Pierre Dafflon organise un « Vide Trésors » : un mix parfait entre vide-greniers et vide-dressing\, où tout se vend\, tout se chine… et surtout tout se transforme en trésors  \n\n\n\n\n\n vêtements\n chaussures\n accessoires\n déco\n objets en tout genre\n\n\n\n Côté visiteurs : venez fouiller\, craquer et repartir avec des trouvailles uniques\n\n\n Côté exposants : Vous avez des affaires qui dorment ? C’est le moment de leur donner une seconde vie !\n\nRéservez votre emplacement et venez vendre vos trésors dans une ambiance conviviale \n\n\n Date : Dimanche 03 Mai 2026\n Horaire : De 08h00 à 17h00\n Lieu : Stade Christophe Pignol\n\n\n\n Infos & inscriptions exposants : associationpierredafflon@hotmail.fr ou au 06.75.19.63.93. Inscription jusqu’au 28/04/2026\, 20€ les 3 mètres et petit déjeuner offert\, accueil des exposants à 07h.  Les places sont limitées… alors ne tardez pas !
URL:https://ville-de-roquevaire.fr/evenement/vide-tresors/
LOCATION:Stade Christophe Pignol\, Lascours\, 13360
ATTACH;FMTTYPE=image/jpeg:https://ville-de-roquevaire.fr/wp-content/uploads/2026/04/AFF-VIDE-TRESORS-3-MAI-V2-scaled.jpg
ORGANIZER;CN="Association Pierre Dafflon":MAILTO:associationpierredafflon@hotmail.fr
END:VEVENT
END:VCALENDAR